BEGIN:VCALENDAR
VERSION:2.0
PRODID:-//Christ Lutheran Church - ECPv6.3.6//NONSGML v1.0//EN
CALSCALE:GREGORIAN
METHOD:PUBLISH
X-WR-CALNAME:Christ Lutheran Church
X-ORIGINAL-URL:https://christlutheranyork.org
X-WR-CALDESC:Events for Christ Lutheran Church
REFRESH-INTERVAL;VALUE=DURATION:PT1H
X-Robots-Tag:noindex
X-PUBLISHED-TTL:PT1H
BEGIN:VTIMEZONE
TZID:America/New_York
BEGIN:DAYLIGHT
TZOFFSETFROM:-0500
TZOFFSETTO:-0400
TZNAME:EDT
DTSTART:20260308T070000
END:DAYLIGHT
BEGIN:STANDARD
TZOFFSETFROM:-0400
TZOFFSETTO:-0500
TZNAME:EST
DTSTART:20261101T060000
END:STANDARD
END:VTIMEZONE
BEGIN:VEVENT
DTSTART;TZID=America/New_York:20260520T121500
DTEND;TZID=America/New_York:20260520T123500
DTSTAMP:20260423T114927
CREATED:20260422T004209Z
LAST-MODIFIED:20260422T004209Z
UID:6707-1779279300-1779280500@christlutheranyork.org
SUMMARY:Mid-Week Devotions
DESCRIPTION:Devotions are comprised of prayer\, scripture reading\, a very brief homily\, and some silent meditation. \nThe purpose of the devotional time together is to give participants time to give thanks to God for blessings received thus far in the week and to pray for God’s guidance through the remainder of the week.
URL:https://christlutheranyork.org/event/mid-week-devotions-12/
END:VEVENT
BEGIN:VEVENT
DTSTART;TZID=America/New_York:20260524T100000
DTEND;TZID=America/New_York:20260524T110000
DTSTAMP:20260423T114927
CREATED:20260422T004755Z
LAST-MODIFIED:20260422T004755Z
UID:6717-1779616800-1779620400@christlutheranyork.org
SUMMARY:Worship Service- Pentecost
DESCRIPTION:Join us as the season of Easter culminates after 50 days with the festival of Pentecost! Come experience the powerful rushing wind of the Holy Spirit as it moves among us!
URL:https://christlutheranyork.org/event/worship-service-pentecost/
END:VEVENT
BEGIN:VEVENT
DTSTART;TZID=America/New_York:20260527T121500
DTEND;TZID=America/New_York:20260527T123500
DTSTAMP:20260423T114927
CREATED:20260422T004244Z
LAST-MODIFIED:20260422T004244Z
UID:6709-1779884100-1779885300@christlutheranyork.org
SUMMARY:Mid-Week Devotions
DESCRIPTION:Devotions are comprised of prayer\, scripture reading\, a very brief homily\, and some silent meditation. \nThe purpose of the devotional time together is to give participants time to give thanks to God for blessings received thus far in the week and to pray for God’s guidance through the remainder of the week.
URL:https://christlutheranyork.org/event/mid-week-devotions-13/
END:VEVENT
BEGIN:VEVENT
DTSTART;TZID=America/New_York:20260531T100000
DTEND;TZID=America/New_York:20260531T110000
DTSTAMP:20260423T114927
CREATED:20260422T004950Z
LAST-MODIFIED:20260422T004950Z
UID:6719-1780221600-1780225200@christlutheranyork.org
SUMMARY:Worship Service- Holy Trinity Sunday
DESCRIPTION:Join us for the first Sunday after Pentecost\, where we celebrate the doctrine of the Holy Trinity- the Father\, the Son\, and the Holy Spirit! \nCoffee Hour follows in the lower narthex.
URL:https://christlutheranyork.org/event/worship-service-holy-trinity-sunday-3/
END:VEVENT
END:VCALENDAR