BEGIN:VCALENDAR
VERSION:2.0
PRODID:-//Christ Lutheran Church - ECPv6.3.6//NONSGML v1.0//EN
CALSCALE:GREGORIAN
METHOD:PUBLISH
X-ORIGINAL-URL:https://christlutheranyork.org
X-WR-CALDESC:Events for Christ Lutheran Church
REFRESH-INTERVAL;VALUE=DURATION:PT1H
X-Robots-Tag:noindex
X-PUBLISHED-TTL:PT1H
BEGIN:VTIMEZONE
TZID:America/New_York
BEGIN:DAYLIGHT
TZOFFSETFROM:-0500
TZOFFSETTO:-0400
TZNAME:EDT
DTSTART:20230312T070000
END:DAYLIGHT
BEGIN:STANDARD
TZOFFSETFROM:-0400
TZOFFSETTO:-0500
TZNAME:EST
DTSTART:20231105T060000
END:STANDARD
END:VTIMEZONE
BEGIN:VEVENT
DTSTART;TZID=America/New_York:20230521T100000
DTEND;TZID=America/New_York:20230521T113000
DTSTAMP:20260420T075418
CREATED:20230420T001621Z
LAST-MODIFIED:20230420T001621Z
UID:3512-1684663200-1684668600@christlutheranyork.org
SUMMARY:Worship Service- Seventh Sunday of Easter
DESCRIPTION:Join us as the season of Easter continues! Alleluia! \nCoffee Hour follows the service in the lower narthex.
URL:https://christlutheranyork.org/event/worship-service-seventh-sunday-of-easter-3/
END:VEVENT
BEGIN:VEVENT
DTSTART;TZID=America/New_York:20230521T120000
DTEND;TZID=America/New_York:20230521T133000
DTSTAMP:20260420T075418
CREATED:20230427T173559Z
LAST-MODIFIED:20230427T173559Z
UID:3557-1684670400-1684675800@christlutheranyork.org
SUMMARY:Community Meal
DESCRIPTION:See Tom Keller\, if you wish to volunteer.  Desserts are needed.
URL:https://christlutheranyork.org/event/community-meal-30/
END:VEVENT
END:VCALENDAR