BEGIN:VCALENDAR
VERSION:2.0
PRODID:-//Christ Lutheran Church - ECPv6.3.6//NONSGML v1.0//EN
CALSCALE:GREGORIAN
METHOD:PUBLISH
X-ORIGINAL-URL:https://christlutheranyork.org
X-WR-CALDESC:Events for Christ Lutheran Church
REFRESH-INTERVAL;VALUE=DURATION:PT1H
X-Robots-Tag:noindex
X-PUBLISHED-TTL:PT1H
BEGIN:VTIMEZONE
TZID:America/New_York
BEGIN:DAYLIGHT
TZOFFSETFROM:-0500
TZOFFSETTO:-0400
TZNAME:EDT
DTSTART:20230312T070000
END:DAYLIGHT
BEGIN:STANDARD
TZOFFSETFROM:-0400
TZOFFSETTO:-0500
TZNAME:EST
DTSTART:20231105T060000
END:STANDARD
END:VTIMEZONE
BEGIN:VEVENT
DTSTART;TZID=America/New_York:20230417T093000
DTEND;TZID=America/New_York:20230417T103000
DTSTAMP:20260420T042052
CREATED:20230329T174918Z
LAST-MODIFIED:20230329T174918Z
UID:3467-1681723800-1681727400@christlutheranyork.org
SUMMARY:Worship & Music Committee
DESCRIPTION:In the parlor
URL:https://christlutheranyork.org/event/worship-music-committee/
END:VEVENT
BEGIN:VEVENT
DTSTART;TZID=America/New_York:20230417T190000
DTEND;TZID=America/New_York:20230417T200000
DTSTAMP:20260420T042052
CREATED:20230329T174629Z
LAST-MODIFIED:20230329T174629Z
UID:3462-1681758000-1681761600@christlutheranyork.org
SUMMARY:Council Meeting
DESCRIPTION:In the parlor
URL:https://christlutheranyork.org/event/council-meeting-17/
END:VEVENT
END:VCALENDAR