BEGIN:VCALENDAR
VERSION:2.0
PRODID:-//Christ Lutheran Church - ECPv6.3.6//NONSGML v1.0//EN
CALSCALE:GREGORIAN
METHOD:PUBLISH
X-ORIGINAL-URL:https://christlutheranyork.org
X-WR-CALDESC:Events for Christ Lutheran Church
REFRESH-INTERVAL;VALUE=DURATION:PT1H
X-Robots-Tag:noindex
X-PUBLISHED-TTL:PT1H
BEGIN:VTIMEZONE
TZID:America/New_York
BEGIN:DAYLIGHT
TZOFFSETFROM:-0500
TZOFFSETTO:-0400
TZNAME:EDT
DTSTART:20230312T070000
END:DAYLIGHT
BEGIN:STANDARD
TZOFFSETFROM:-0400
TZOFFSETTO:-0500
TZNAME:EST
DTSTART:20231105T060000
END:STANDARD
END:VTIMEZONE
BEGIN:VEVENT
DTSTART;TZID=America/New_York:20230408T190000
DTEND;TZID=America/New_York:20230408T203000
DTSTAMP:20260424T135647
CREATED:20230224T184350Z
LAST-MODIFIED:20230224T185957Z
UID:3400-1680980400-1680985800@christlutheranyork.org
SUMMARY:Worship Service- The Great Vigil of Easter
DESCRIPTION:Journey from darkness to light\, from death to life\, as we bear witness to the Paschal Mystery through powerful music\, the retelling of the salvation story\, the renewal of baptism\, and Holy Eucharist! \nThe service begins in the courtyard with the kindling of new fire and processes to the nave. \nA reception follows the service in the lower narthex.
URL:https://christlutheranyork.org/event/worship-service-the-great-vigil-of-easter/
END:VEVENT
END:VCALENDAR