BEGIN:VCALENDAR
VERSION:2.0
PRODID:-//Christ Lutheran Church - ECPv6.3.6//NONSGML v1.0//EN
CALSCALE:GREGORIAN
METHOD:PUBLISH
X-ORIGINAL-URL:https://christlutheranyork.org
X-WR-CALDESC:Events for Christ Lutheran Church
REFRESH-INTERVAL;VALUE=DURATION:PT1H
X-Robots-Tag:noindex
X-PUBLISHED-TTL:PT1H
BEGIN:VTIMEZONE
TZID:America/New_York
BEGIN:DAYLIGHT
TZOFFSETFROM:-0500
TZOFFSETTO:-0400
TZNAME:EDT
DTSTART:20230312T070000
END:DAYLIGHT
BEGIN:STANDARD
TZOFFSETFROM:-0400
TZOFFSETTO:-0500
TZNAME:EST
DTSTART:20231105T060000
END:STANDARD
END:VTIMEZONE
BEGIN:VEVENT
DTSTART;TZID=America/New_York:20230407T121500
DTEND;TZID=America/New_York:20230407T131500
DTSTAMP:20260420T075423
CREATED:20230224T184204Z
LAST-MODIFIED:20230224T184204Z
UID:3396-1680869700-1680873300@christlutheranyork.org
SUMMARY:Worship Service- Good Friday
DESCRIPTION:Holy Week continues with the most solemn liturgy of Good Friday\, where we mark the suffering and death of Christ. The service concludes with the Adoration of the Cross.
URL:https://christlutheranyork.org/event/worship-service-good-friday-3/
END:VEVENT
BEGIN:VEVENT
DTSTART;TZID=America/New_York:20230407T190000
DTEND;TZID=America/New_York:20230407T200000
DTSTAMP:20260420T075423
CREATED:20230224T184240Z
LAST-MODIFIED:20230224T184240Z
UID:3398-1680894000-1680897600@christlutheranyork.org
SUMMARY:Worship Service- Good Friday
DESCRIPTION:Holy Week continues with the most solemn liturgy of Good Friday\, where we mark the suffering and death of Christ. The service concludes with the Adoration of the Cross.
URL:https://christlutheranyork.org/event/worship-service-good-friday-4/
END:VEVENT
END:VCALENDAR