BEGIN:VCALENDAR
VERSION:2.0
PRODID:-//Christ Lutheran Church - ECPv6.3.6//NONSGML v1.0//EN
CALSCALE:GREGORIAN
METHOD:PUBLISH
X-WR-CALNAME:Christ Lutheran Church
X-ORIGINAL-URL:https://christlutheranyork.org
X-WR-CALDESC:Events for Christ Lutheran Church
REFRESH-INTERVAL;VALUE=DURATION:PT1H
X-Robots-Tag:noindex
X-PUBLISHED-TTL:PT1H
BEGIN:VTIMEZONE
TZID:America/New_York
BEGIN:DAYLIGHT
TZOFFSETFROM:-0500
TZOFFSETTO:-0400
TZNAME:EDT
DTSTART:20230312T070000
END:DAYLIGHT
BEGIN:STANDARD
TZOFFSETFROM:-0400
TZOFFSETTO:-0500
TZNAME:EST
DTSTART:20231105T060000
END:STANDARD
END:VTIMEZONE
BEGIN:VEVENT
DTSTART;TZID=America/New_York:20230406T121500
DTEND;TZID=America/New_York:20230406T131500
DTSTAMP:20260420T031052
CREATED:20230224T183711Z
LAST-MODIFIED:20230224T183926Z
UID:3391-1680783300-1680786900@christlutheranyork.org
SUMMARY:Worship Service- Maundy Thursday
DESCRIPTION:Join us on our journey through Holy Week as we remember the Last Supper with the washing of feet and Holy Communion.  The service concludes with the stripping of the altar in preparation for the solemnity of Good Friday.
URL:https://christlutheranyork.org/event/worship-service-maundy-thursday-2/
END:VEVENT
BEGIN:VEVENT
DTSTART;TZID=America/New_York:20230406T190000
DTEND;TZID=America/New_York:20230406T200000
DTSTAMP:20260420T031052
CREATED:20230224T184008Z
LAST-MODIFIED:20230224T184008Z
UID:3394-1680807600-1680811200@christlutheranyork.org
SUMMARY:Worship Service- Maundy Thursday
DESCRIPTION:Join us on our journey through Holy Week as we remember the Last Supper with the washing of feet and Holy Communion.  The service concludes with the stripping of the altar in preparation for the solemnity of Good Friday.
URL:https://christlutheranyork.org/event/worship-service-maundy-thursday-3/
END:VEVENT
END:VCALENDAR