BEGIN:VCALENDAR
VERSION:2.0
PRODID:-//Christ Lutheran Church - ECPv6.3.6//NONSGML v1.0//EN
CALSCALE:GREGORIAN
METHOD:PUBLISH
X-WR-CALNAME:Christ Lutheran Church
X-ORIGINAL-URL:https://christlutheranyork.org
X-WR-CALDESC:Events for Christ Lutheran Church
REFRESH-INTERVAL;VALUE=DURATION:PT1H
X-Robots-Tag:noindex
X-PUBLISHED-TTL:PT1H
BEGIN:VTIMEZONE
TZID:America/New_York
BEGIN:DAYLIGHT
TZOFFSETFROM:-0500
TZOFFSETTO:-0400
TZNAME:EDT
DTSTART:20230312T070000
END:DAYLIGHT
BEGIN:STANDARD
TZOFFSETFROM:-0400
TZOFFSETTO:-0500
TZNAME:EST
DTSTART:20231105T060000
END:STANDARD
END:VTIMEZONE
BEGIN:VEVENT
DTSTART;TZID=America/New_York:20230311T100000
DTEND;TZID=America/New_York:20230311T120000
DTSTAMP:20260425T163339
CREATED:20230224T182402Z
LAST-MODIFIED:20230224T182402Z
UID:3381-1678528800-1678536000@christlutheranyork.org
SUMMARY:Ladies Brunch Bunch
DESCRIPTION:For March’s meeting bring a brunch treat to share. This month’s book is Lessons in Chemistry by Bonnie Garmus. For our crafting time we will be working on a “bunny jar.” This piece entails painting a mason jar and decorating it with a felt bunny. \n\n\n\n\nAs always\, if reading the book or the craft does not appeal to you\, that’s OK. Come join us for the food and conversation. We really hope you can join us!
URL:https://christlutheranyork.org/event/ladies-brunch-bunch-3/
END:VEVENT
END:VCALENDAR