BEGIN:VCALENDAR
VERSION:2.0
PRODID:-//Christ Lutheran Church - ECPv6.3.6//NONSGML v1.0//EN
CALSCALE:GREGORIAN
METHOD:PUBLISH
X-WR-CALNAME:Christ Lutheran Church
X-ORIGINAL-URL:https://christlutheranyork.org
X-WR-CALDESC:Events for Christ Lutheran Church
REFRESH-INTERVAL;VALUE=DURATION:PT1H
X-Robots-Tag:noindex
X-PUBLISHED-TTL:PT1H
BEGIN:VTIMEZONE
TZID:America/New_York
BEGIN:DAYLIGHT
TZOFFSETFROM:-0500
TZOFFSETTO:-0400
TZNAME:EDT
DTSTART:20230312T070000
END:DAYLIGHT
BEGIN:STANDARD
TZOFFSETFROM:-0400
TZOFFSETTO:-0500
TZNAME:EST
DTSTART:20231105T060000
END:STANDARD
END:VTIMEZONE
BEGIN:VEVENT
DTSTART;TZID=America/New_York:20230305T100000
DTEND;TZID=America/New_York:20230305T113000
DTSTAMP:20260424T160619
CREATED:20230224T181448Z
LAST-MODIFIED:20230224T181448Z
UID:3363-1678010400-1678015800@christlutheranyork.org
SUMMARY:Worship Service- Second Sunday in Lent
DESCRIPTION:Join us for worship! Coffee Hour follows the service in the lower narthex.
URL:https://christlutheranyork.org/event/worship-service-second-sunday-in-lent/
END:VEVENT
BEGIN:VEVENT
DTSTART;TZID=America/New_York:20230305T120000
DTEND;TZID=America/New_York:20230305T123000
DTSTAMP:20260424T160619
CREATED:20230224T182008Z
LAST-MODIFIED:20230224T182053Z
UID:3376-1678017600-1678019400@christlutheranyork.org
SUMMARY:Daily Bread- Noodle pickup
DESCRIPTION:
URL:https://christlutheranyork.org/event/daily-bread-hamburger-and-noodles-due-3/
END:VEVENT
END:VCALENDAR