BEGIN:VCALENDAR
VERSION:2.0
PRODID:-//Christ Lutheran Church - ECPv6.3.6//NONSGML v1.0//EN
CALSCALE:GREGORIAN
METHOD:PUBLISH
X-ORIGINAL-URL:https://christlutheranyork.org
X-WR-CALDESC:Events for Christ Lutheran Church
REFRESH-INTERVAL;VALUE=DURATION:PT1H
X-Robots-Tag:noindex
X-PUBLISHED-TTL:PT1H
BEGIN:VTIMEZONE
TZID:America/New_York
BEGIN:DAYLIGHT
TZOFFSETFROM:-0500
TZOFFSETTO:-0400
TZNAME:EDT
DTSTART:20230312T070000
END:DAYLIGHT
BEGIN:STANDARD
TZOFFSETFROM:-0400
TZOFFSETTO:-0500
TZNAME:EST
DTSTART:20231105T060000
END:STANDARD
END:VTIMEZONE
BEGIN:VEVENT
DTSTART;TZID=America/New_York:20230219T100000
DTEND;TZID=America/New_York:20230219T113000
DTSTAMP:20260420T111334
CREATED:20230124T224306Z
LAST-MODIFIED:20230124T225009Z
UID:3309-1676800800-1676806200@christlutheranyork.org
SUMMARY:Worship Service- The Transfiguration of Our Lord
DESCRIPTION:Join us for the final Sunday in Epiphany where we celebrate the glorified Christ and end with the burial of the Alleluia\, beginning the season of Lent.  Coffee Hour follows the service in the lower narthex.
URL:https://christlutheranyork.org/event/worship-service-the-transfiguration-of-our-lord/
END:VEVENT
BEGIN:VEVENT
DTSTART;TZID=America/New_York:20230219T120000
DTEND;TZID=America/New_York:20230219T123000
DTSTAMP:20260420T111334
CREATED:20230207T022521Z
LAST-MODIFIED:20230207T022521Z
UID:3341-1676808000-1676809800@christlutheranyork.org
SUMMARY:Daily Bread- Baked Goods Due
DESCRIPTION:
URL:https://christlutheranyork.org/event/daily-bread-baked-goods-due-2/
END:VEVENT
END:VCALENDAR