BEGIN:VCALENDAR
VERSION:2.0
PRODID:-//Christ Lutheran Church - ECPv6.3.6//NONSGML v1.0//EN
CALSCALE:GREGORIAN
METHOD:PUBLISH
X-ORIGINAL-URL:https://christlutheranyork.org
X-WR-CALDESC:Events for Christ Lutheran Church
REFRESH-INTERVAL;VALUE=DURATION:PT1H
X-Robots-Tag:noindex
X-PUBLISHED-TTL:PT1H
BEGIN:VTIMEZONE
TZID:America/New_York
BEGIN:DAYLIGHT
TZOFFSETFROM:-0500
TZOFFSETTO:-0400
TZNAME:EDT
DTSTART:20230312T070000
END:DAYLIGHT
BEGIN:STANDARD
TZOFFSETFROM:-0400
TZOFFSETTO:-0500
TZNAME:EST
DTSTART:20231105T060000
END:STANDARD
END:VTIMEZONE
BEGIN:VEVENT
DTSTART;TZID=America/New_York:20230211T100000
DTEND;TZID=America/New_York:20230211T120000
DTSTAMP:20260424T094604
CREATED:20230207T022324Z
LAST-MODIFIED:20230207T022324Z
UID:3336-1676109600-1676116800@christlutheranyork.org
SUMMARY:Ladies Brunch Bunch
DESCRIPTION:February’s meeting will start with a devotion after which we will have goodies hosted by Cindy Cooley. During that time we will discuss the book A Single Thread by Tracy Chevalier. \nOur crafting time will be working on some cross–stitch. If you already have a project that you are working on\, bring it along. If you are a newbie\, or have not done it in a while\, there will be a project available for you to work with. \nJust remember\, if reading the book or the craft does not appeal to you that’s OK. Come join us for the food and conversation!
URL:https://christlutheranyork.org/event/ladies-brunch-bunch-2/
END:VEVENT
END:VCALENDAR