BEGIN:VCALENDAR
VERSION:2.0
PRODID:-//Christ Lutheran Church - ECPv6.3.6//NONSGML v1.0//EN
CALSCALE:GREGORIAN
METHOD:PUBLISH
X-ORIGINAL-URL:https://christlutheranyork.org
X-WR-CALDESC:Events for Christ Lutheran Church
REFRESH-INTERVAL;VALUE=DURATION:PT1H
X-Robots-Tag:noindex
X-PUBLISHED-TTL:PT1H
BEGIN:VTIMEZONE
TZID:America/New_York
BEGIN:DAYLIGHT
TZOFFSETFROM:-0500
TZOFFSETTO:-0400
TZNAME:EDT
DTSTART:20220313T070000
END:DAYLIGHT
BEGIN:STANDARD
TZOFFSETFROM:-0400
TZOFFSETTO:-0500
TZNAME:EST
DTSTART:20221106T060000
END:STANDARD
END:VTIMEZONE
BEGIN:VEVENT
DTSTART;TZID=America/New_York:20221224T170000
DTEND;TZID=America/New_York:20221224T180000
DTSTAMP:20260425T163415
CREATED:20221103T001521Z
LAST-MODIFIED:20221103T001521Z
UID:3182-1671901200-1671904800@christlutheranyork.org
SUMMARY:Worship Service- Christmas Eve Eucharist for Families
DESCRIPTION:Join us as we celebrate the birth of the Christ Child! This service is especially designed for families with children.
URL:https://christlutheranyork.org/event/worship-service-christmas-eve-eucharist-for-families/
END:VEVENT
BEGIN:VEVENT
DTSTART;TZID=America/New_York:20221224T210000
DTEND;TZID=America/New_York:20221224T223000
DTSTAMP:20260425T163415
CREATED:20221103T001838Z
LAST-MODIFIED:20221103T002359Z
UID:3184-1671915600-1671921000@christlutheranyork.org
SUMMARY:Worship Service- The Nativity of our Lord
DESCRIPTION:Join us for this candlelight service as we celebrate the birth of  the Christ Child! Prelude music begins at 8:30pm.
URL:https://christlutheranyork.org/event/worship-service-the-nativity-of-our-lord/
END:VEVENT
END:VCALENDAR