BEGIN:VCALENDAR
VERSION:2.0
PRODID:-//Christ Lutheran Church - ECPv6.3.6//NONSGML v1.0//EN
CALSCALE:GREGORIAN
METHOD:PUBLISH
X-WR-CALNAME:Christ Lutheran Church
X-ORIGINAL-URL:https://christlutheranyork.org
X-WR-CALDESC:Events for Christ Lutheran Church
REFRESH-INTERVAL;VALUE=DURATION:PT1H
X-Robots-Tag:noindex
X-PUBLISHED-TTL:PT1H
BEGIN:VTIMEZONE
TZID:America/New_York
BEGIN:DAYLIGHT
TZOFFSETFROM:-0500
TZOFFSETTO:-0400
TZNAME:EDT
DTSTART:20220313T070000
END:DAYLIGHT
BEGIN:STANDARD
TZOFFSETFROM:-0400
TZOFFSETTO:-0500
TZNAME:EST
DTSTART:20221106T060000
END:STANDARD
END:VTIMEZONE
BEGIN:VEVENT
DTSTART;TZID=America/New_York:20221218T100000
DTEND;TZID=America/New_York:20221218T113000
DTSTAMP:20260425T120217
CREATED:20221103T000758Z
LAST-MODIFIED:20221103T000758Z
UID:3180-1671357600-1671363000@christlutheranyork.org
SUMMARY:Worship Service- Fourth Sunday in Advent: Lessons and Carols
DESCRIPTION:Join us for a service of Lessons and Carols! Coffee Hour follows in the lower narthex.
URL:https://christlutheranyork.org/event/worship-service-fourth-sunday-in-advent-lessons-and-carols/
END:VEVENT
BEGIN:VEVENT
DTSTART;TZID=America/New_York:20221218T113000
DTEND;TZID=America/New_York:20221218T123000
DTSTAMP:20260425T120217
CREATED:20221103T002734Z
LAST-MODIFIED:20221103T002734Z
UID:3188-1671363000-1671366600@christlutheranyork.org
SUMMARY:Hanging of the Greens
DESCRIPTION:Lend a hand as we prepare the nave for the Christmas season!
URL:https://christlutheranyork.org/event/hanging-of-the-greens/
END:VEVENT
BEGIN:VEVENT
DTSTART;TZID=America/New_York:20221218T120000
DTEND;TZID=America/New_York:20221218T133000
DTSTAMP:20260425T120217
CREATED:20221204T171533Z
LAST-MODIFIED:20221204T171533Z
UID:3225-1671364800-1671370200@christlutheranyork.org
SUMMARY:Community Meal
DESCRIPTION:Contact Tom Keller if you would like to volunteer.  All baked goods for the Christmas Community Meal due today.
URL:https://christlutheranyork.org/event/community-meal-25/
END:VEVENT
END:VCALENDAR